BEGIN:VCALENDAR
VERSION:2.0
PRODID:-//Noch einmal Thai - ECPv6.15.20//NONSGML v1.0//EN
CALSCALE:GREGORIAN
METHOD:PUBLISH
X-ORIGINAL-URL:https://noch-einmal-thai.ch
X-WR-CALDESC:Veranstaltungen für Noch einmal Thai
REFRESH-INTERVAL;VALUE=DURATION:PT1H
X-Robots-Tag:noindex
X-PUBLISHED-TTL:PT1H
BEGIN:VTIMEZONE
TZID:Europe/Paris
BEGIN:DAYLIGHT
TZOFFSETFROM:+0100
TZOFFSETTO:+0200
TZNAME:CEST
DTSTART:20250330T010000
END:DAYLIGHT
BEGIN:STANDARD
TZOFFSETFROM:+0200
TZOFFSETTO:+0100
TZNAME:CET
DTSTART:20251026T010000
END:STANDARD
BEGIN:DAYLIGHT
TZOFFSETFROM:+0100
TZOFFSETTO:+0200
TZNAME:CEST
DTSTART:20260329T010000
END:DAYLIGHT
BEGIN:STANDARD
TZOFFSETFROM:+0200
TZOFFSETTO:+0100
TZNAME:CET
DTSTART:20261025T010000
END:STANDARD
BEGIN:DAYLIGHT
TZOFFSETFROM:+0100
TZOFFSETTO:+0200
TZNAME:CEST
DTSTART:20270328T010000
END:DAYLIGHT
BEGIN:STANDARD
TZOFFSETFROM:+0200
TZOFFSETTO:+0100
TZNAME:CET
DTSTART:20271031T010000
END:STANDARD
END:VTIMEZONE
BEGIN:VEVENT
DTSTART;VALUE=DATE:20260513
DTEND;VALUE=DATE:20260514
DTSTAMP:20260420T151928
CREATED:20251216T073758Z
LAST-MODIFIED:20251216T073758Z
UID:1683-1778630400-1778716799@noch-einmal-thai.ch
SUMMARY:Geöffnet
DESCRIPTION:
URL:https://noch-einmal-thai.ch/event/geoeffnet-26/
END:VEVENT
BEGIN:VEVENT
DTSTART;VALUE=DATE:20260520
DTEND;VALUE=DATE:20260521
DTSTAMP:20260420T151928
CREATED:20251216T073816Z
LAST-MODIFIED:20251216T073816Z
UID:1685-1779235200-1779321599@noch-einmal-thai.ch
SUMMARY:Geöffnet
DESCRIPTION:
URL:https://noch-einmal-thai.ch/event/geoeffnet-27/
END:VEVENT
BEGIN:VEVENT
DTSTART;VALUE=DATE:20260527
DTEND;VALUE=DATE:20260528
DTSTAMP:20260420T151928
CREATED:20251216T073833Z
LAST-MODIFIED:20251216T073833Z
UID:1687-1779840000-1779926399@noch-einmal-thai.ch
SUMMARY:Geöffnet
DESCRIPTION:
URL:https://noch-einmal-thai.ch/event/geoeffnet-28/
END:VEVENT
END:VCALENDAR