BEGIN:VCALENDAR
VERSION:2.0
PRODID:-//Noch einmal Thai - ECPv6.15.20//NONSGML v1.0//EN
CALSCALE:GREGORIAN
METHOD:PUBLISH
X-WR-CALNAME:Noch einmal Thai
X-ORIGINAL-URL:https://noch-einmal-thai.ch
X-WR-CALDESC:Veranstaltungen für Noch einmal Thai
REFRESH-INTERVAL;VALUE=DURATION:PT1H
X-Robots-Tag:noindex
X-PUBLISHED-TTL:PT1H
BEGIN:VTIMEZONE
TZID:Europe/Paris
BEGIN:DAYLIGHT
TZOFFSETFROM:+0100
TZOFFSETTO:+0200
TZNAME:CEST
DTSTART:20250330T010000
END:DAYLIGHT
BEGIN:STANDARD
TZOFFSETFROM:+0200
TZOFFSETTO:+0100
TZNAME:CET
DTSTART:20251026T010000
END:STANDARD
BEGIN:DAYLIGHT
TZOFFSETFROM:+0100
TZOFFSETTO:+0200
TZNAME:CEST
DTSTART:20260329T010000
END:DAYLIGHT
BEGIN:STANDARD
TZOFFSETFROM:+0200
TZOFFSETTO:+0100
TZNAME:CET
DTSTART:20261025T010000
END:STANDARD
BEGIN:DAYLIGHT
TZOFFSETFROM:+0100
TZOFFSETTO:+0200
TZNAME:CEST
DTSTART:20270328T010000
END:DAYLIGHT
BEGIN:STANDARD
TZOFFSETFROM:+0200
TZOFFSETTO:+0100
TZNAME:CET
DTSTART:20271031T010000
END:STANDARD
END:VTIMEZONE
BEGIN:VEVENT
DTSTART;VALUE=DATE:20260603
DTEND;VALUE=DATE:20260604
DTSTAMP:20260420T182239
CREATED:20251216T074542Z
LAST-MODIFIED:20251216T074542Z
UID:1689-1780444800-1780531199@noch-einmal-thai.ch
SUMMARY:Geöffnet
DESCRIPTION:
URL:https://noch-einmal-thai.ch/event/geoeffnet-29/
END:VEVENT
BEGIN:VEVENT
DTSTART;VALUE=DATE:20260610
DTEND;VALUE=DATE:20260611
DTSTAMP:20260420T182239
CREATED:20251216T074555Z
LAST-MODIFIED:20251216T074555Z
UID:1691-1781049600-1781135999@noch-einmal-thai.ch
SUMMARY:Geöffnet
DESCRIPTION:
URL:https://noch-einmal-thai.ch/event/geoeffnet-30/
END:VEVENT
BEGIN:VEVENT
DTSTART;VALUE=DATE:20260617
DTEND;VALUE=DATE:20260618
DTSTAMP:20260420T182239
CREATED:20251216T074609Z
LAST-MODIFIED:20251216T074609Z
UID:1693-1781654400-1781740799@noch-einmal-thai.ch
SUMMARY:Geöffnet
DESCRIPTION:
URL:https://noch-einmal-thai.ch/event/geoeffnet-31/
END:VEVENT
BEGIN:VEVENT
DTSTART;VALUE=DATE:20260624
DTEND;VALUE=DATE:20260625
DTSTAMP:20260420T182239
CREATED:20251216T074624Z
LAST-MODIFIED:20251216T074624Z
UID:1695-1782259200-1782345599@noch-einmal-thai.ch
SUMMARY:Geöffnet
DESCRIPTION:
URL:https://noch-einmal-thai.ch/event/geoeffnet-32/
END:VEVENT
END:VCALENDAR