BEGIN:VCALENDAR
VERSION:2.0
PRODID:-//Noch einmal Thai - ECPv6.15.20//NONSGML v1.0//EN
CALSCALE:GREGORIAN
METHOD:PUBLISH
X-WR-CALNAME:Noch einmal Thai
X-ORIGINAL-URL:https://noch-einmal-thai.ch
X-WR-CALDESC:Veranstaltungen für Noch einmal Thai
REFRESH-INTERVAL;VALUE=DURATION:PT1H
X-Robots-Tag:noindex
X-PUBLISHED-TTL:PT1H
BEGIN:VTIMEZONE
TZID:Europe/Paris
BEGIN:DAYLIGHT
TZOFFSETFROM:+0100
TZOFFSETTO:+0200
TZNAME:CEST
DTSTART:20250330T010000
END:DAYLIGHT
BEGIN:STANDARD
TZOFFSETFROM:+0200
TZOFFSETTO:+0100
TZNAME:CET
DTSTART:20251026T010000
END:STANDARD
BEGIN:DAYLIGHT
TZOFFSETFROM:+0100
TZOFFSETTO:+0200
TZNAME:CEST
DTSTART:20260329T010000
END:DAYLIGHT
BEGIN:STANDARD
TZOFFSETFROM:+0200
TZOFFSETTO:+0100
TZNAME:CET
DTSTART:20261025T010000
END:STANDARD
BEGIN:DAYLIGHT
TZOFFSETFROM:+0100
TZOFFSETTO:+0200
TZNAME:CEST
DTSTART:20270328T010000
END:DAYLIGHT
BEGIN:STANDARD
TZOFFSETFROM:+0200
TZOFFSETTO:+0100
TZNAME:CET
DTSTART:20271031T010000
END:STANDARD
END:VTIMEZONE
BEGIN:VEVENT
DTSTART;VALUE=DATE:20260902
DTEND;VALUE=DATE:20260903
DTSTAMP:20260420T225422
CREATED:20251216T091710Z
LAST-MODIFIED:20251216T091710Z
UID:1715-1788307200-1788393599@noch-einmal-thai.ch
SUMMARY:Geöffnet
DESCRIPTION:
URL:https://noch-einmal-thai.ch/event/geoeffnet-42/
END:VEVENT
BEGIN:VEVENT
DTSTART;VALUE=DATE:20260909
DTEND;VALUE=DATE:20260910
DTSTAMP:20260420T225422
CREATED:20251216T091739Z
LAST-MODIFIED:20251216T091739Z
UID:1717-1788912000-1788998399@noch-einmal-thai.ch
SUMMARY:Geöffnet
DESCRIPTION:
URL:https://noch-einmal-thai.ch/event/geoeffnet-43/
END:VEVENT
BEGIN:VEVENT
DTSTART;VALUE=DATE:20260916
DTEND;VALUE=DATE:20260917
DTSTAMP:20260420T225423
CREATED:20251216T091805Z
LAST-MODIFIED:20251216T091805Z
UID:1719-1789516800-1789603199@noch-einmal-thai.ch
SUMMARY:Geöffnet
DESCRIPTION:
URL:https://noch-einmal-thai.ch/event/geoeffnet-44/
END:VEVENT
BEGIN:VEVENT
DTSTART;VALUE=DATE:20260923
DTEND;VALUE=DATE:20260924
DTSTAMP:20260420T225423
CREATED:20251216T091825Z
LAST-MODIFIED:20251216T091825Z
UID:1721-1790121600-1790207999@noch-einmal-thai.ch
SUMMARY:Geöffnet
DESCRIPTION:
URL:https://noch-einmal-thai.ch/event/geoeffnet-45/
END:VEVENT
BEGIN:VEVENT
DTSTART;VALUE=DATE:20260930
DTEND;VALUE=DATE:20261001
DTSTAMP:20260420T225423
CREATED:20251216T091852Z
LAST-MODIFIED:20251216T091852Z
UID:1723-1790726400-1790812799@noch-einmal-thai.ch
SUMMARY:Geöffnet
DESCRIPTION:
URL:https://noch-einmal-thai.ch/event/geoeffnet-46/
END:VEVENT
END:VCALENDAR